BEGIN:VCALENDAR
VERSION:2.0
PRODID:-//Energy Trust Insider - ECPv6.15.17.1//NONSGML v1.0//EN
CALSCALE:GREGORIAN
METHOD:PUBLISH
X-WR-CALNAME:Energy Trust Insider
X-ORIGINAL-URL:https://insider.energytrust.org
X-WR-CALDESC:Events for Energy Trust Insider
REFRESH-INTERVAL;VALUE=DURATION:PT1H
X-Robots-Tag:noindex
X-PUBLISHED-TTL:PT1H
BEGIN:VTIMEZONE
TZID:America/Los_Angeles
BEGIN:DAYLIGHT
TZOFFSETFROM:-0800
TZOFFSETTO:-0700
TZNAME:PDT
DTSTART:20250309T100000
END:DAYLIGHT
BEGIN:STANDARD
TZOFFSETFROM:-0700
TZOFFSETTO:-0800
TZNAME:PST
DTSTART:20251102T090000
END:STANDARD
BEGIN:DAYLIGHT
TZOFFSETFROM:-0800
TZOFFSETTO:-0700
TZNAME:PDT
DTSTART:20260308T100000
END:DAYLIGHT
BEGIN:STANDARD
TZOFFSETFROM:-0700
TZOFFSETTO:-0800
TZNAME:PST
DTSTART:20261101T090000
END:STANDARD
BEGIN:DAYLIGHT
TZOFFSETFROM:-0800
TZOFFSETTO:-0700
TZNAME:PDT
DTSTART:20270314T100000
END:DAYLIGHT
BEGIN:STANDARD
TZOFFSETFROM:-0700
TZOFFSETTO:-0800
TZNAME:PST
DTSTART:20271107T090000
END:STANDARD
END:VTIMEZONE
BEGIN:VEVENT
DTSTART;TZID=America/Los_Angeles:20260224T083000
DTEND;TZID=America/Los_Angeles:20260224T093000
DTSTAMP:20260423T201022
CREATED:20260120T175253Z
LAST-MODIFIED:20260120T175253Z
UID:20475-1771921800-1771925400@insider.energytrust.org
SUMMARY:Measure Overview Weatherization
DESCRIPTION:Join Energy Trust for this free introductory training on the basics of Weatherization. This presentation will cover the types of weatherization materials within the Home Retrofit Program\, as well as considerations for replacement and installation. This training is designed for trade allies\, community partners\, or anyone interested in a basic understanding of home weatherization.
URL:https://insider.energytrust.org/event/measure-overview-weatherization/
LOCATION:Zoom
CATEGORIES:Weatherization
ATTACH;FMTTYPE=image/jpeg:https://insider.energytrust.org/wp-content/uploads/Measure-Overview-Weatherization-2.24.26.jpg
ORGANIZER;CN="Energy Trust":MAILTO: info@energytrust.org
END:VEVENT
BEGIN:VEVENT
DTSTART;TZID=America/Los_Angeles:20260224T110000
DTEND;TZID=America/Los_Angeles:20260224T120000
DTSTAMP:20260423T201022
CREATED:20260217T225633Z
LAST-MODIFIED:20260217T225829Z
UID:20620-1771930800-1771934400@insider.energytrust.org
SUMMARY:Received a Letter from ODOE\, Now What?
DESCRIPTION:Step-by-step guidance on understanding and verifying letters from ODOE\, along with actionable next steps.
URL:https://insider.energytrust.org/event/received-a-letter-from-odoe-now-what/
LOCATION:Webinar
END:VEVENT
BEGIN:VEVENT
DTSTART;TZID=America/Los_Angeles:20260225T083000
DTEND;TZID=America/Los_Angeles:20260225T170000
DTSTAMP:20260423T201022
CREATED:20260202T194646Z
LAST-MODIFIED:20260202T194646Z
UID:20499-1772008200-1772038800@insider.energytrust.org
SUMMARY:Commercial Battery and Microgrid Training by Mayfield Renewables
DESCRIPTION:Energy Trust is hosting Mayfield Renewables to give a one-day training on microgrid feasibility\, codes and standards\, and best practices. This technical training event will take place at the Power + Light Building on the 10th floor. \nMayfield Renewables is an Oregon-based engineering consultancy focused on complex commercial design and well regarded for their quality education. This day of training will provide an overview of microgrid system planning and design considerations as well as current electrical codes\, standards and requirements for PV+BESS systems. Any solar trade ally staff are welcome to attend. The conversations may be most useful to individuals working in commercial design\, technical assessment and sales\, and electricians\, but install crews are encouraged to attend as well. NABCEP CEUs are available. \nDetails:  \nDate:  February 25\, 2026\nTime: 8:30am to 5:00pm\nLocation: Energy Trust of Oregon 920 SW Sixth Ave\, #1003\, Portland\, OR 97204
URL:https://insider.energytrust.org/event/commercial-battery-and-microgrid-training-by-mayfield-renewables/
LOCATION:Energy Trust of Oregon\, 920 SW 6th Ave\, Suite 900\, Portland\, OR\, 97204\, United States
CATEGORIES:Renewable Energy
GEO:45.5215141;-122.6755048
X-APPLE-STRUCTURED-LOCATION;VALUE=URI;X-ADDRESS=Energy Trust of Oregon 920 SW 6th Ave Suite 900 Portland OR 97204 United States;X-APPLE-RADIUS=500;X-TITLE=920 SW 6th Ave\, Suite 900:geo:-122.6755048,45.5215141
END:VEVENT
BEGIN:VEVENT
DTSTART;TZID=America/Los_Angeles:20260226T110000
DTEND;TZID=America/Los_Angeles:20260226T120000
DTSTAMP:20260423T201022
CREATED:20260210T181059Z
LAST-MODIFIED:20260210T193730Z
UID:20534-1772103600-1772107200@insider.energytrust.org
SUMMARY:Portland Solar Access Program RFQ Webinar
DESCRIPTION:Join this webinar to learn more about the Portland Solar Access Program (PSAP) and the RFQ process for selecting solar trade allies to participate.
URL:https://insider.energytrust.org/event/portland-solar-access-program-rfq-webinar/
LOCATION:Zoom
END:VEVENT
BEGIN:VEVENT
DTSTART;TZID=America/Los_Angeles:20260302T090000
DTEND;TZID=America/Los_Angeles:20260302T100000
DTSTAMP:20260423T201022
CREATED:20260210T193638Z
LAST-MODIFIED:20260210T193654Z
UID:20544-1772442000-1772445600@insider.energytrust.org
SUMMARY:Portland Solar Access Program RFQ Webinar
DESCRIPTION:Join this webinar to learn more about the Portland Solar Access Program (PSAP) and the RFQ process for selecting solar trade allies to participate.
URL:https://insider.energytrust.org/event/portland-solar-access-program-rfq-webinar-2/
LOCATION:Zoom
END:VEVENT
BEGIN:VEVENT
DTSTART;TZID=America/Los_Angeles:20260303T110000
DTEND;TZID=America/Los_Angeles:20260303T120000
DTSTAMP:20260423T201022
CREATED:20260217T225800Z
LAST-MODIFIED:20260217T230749Z
UID:20623-1772535600-1772539200@insider.energytrust.org
SUMMARY:BPS Office Hours #2
DESCRIPTION:Come with your questions!
URL:https://insider.energytrust.org/event/bps-office-hours-2/
LOCATION:Webinar
END:VEVENT
BEGIN:VEVENT
DTSTART;TZID=America/Los_Angeles:20260310T083000
DTEND;TZID=America/Los_Angeles:20260310T220000
DTSTAMP:20260423T201022
CREATED:20260217T165739Z
LAST-MODIFIED:20260220T184812Z
UID:20595-1773131400-1773180000@insider.energytrust.org
SUMMARY:Most Common Corrective Actions of 2025
DESCRIPTION:Join Energy Trust for this free virtual training designed for contractors or community-based organizations that are interested in learning how to avoid the most common program mistakes seen in the field. This training will cover both HVAC and weatherization best practices and is great for anyone interested in learning more about quality installations.
URL:https://insider.energytrust.org/event/most-common-corrective-actions-of-2025/
LOCATION:Zoom
CATEGORIES:General,Heating + Cooling,Weatherization
ATTACH;FMTTYPE=image/jpeg:https://insider.energytrust.org/wp-content/uploads/3.10.26-Most-Common-Corrective-Actions-of-2025.jpg
ORGANIZER;CN="Energy Trust":MAILTO: info@energytrust.org
END:VEVENT
BEGIN:VEVENT
DTSTART;TZID=America/Los_Angeles:20260310T110000
DTEND;TZID=America/Los_Angeles:20260310T120000
DTSTAMP:20260423T201022
CREATED:20260217T225921Z
LAST-MODIFIED:20260217T225921Z
UID:20625-1773140400-1773144000@insider.energytrust.org
SUMMARY:Portfolio Manager Deeper Dive
DESCRIPTION:Comprehensive training on energy data entry\, error correction\, and establishing utility connections in Portfolio Manager.
URL:https://insider.energytrust.org/event/portfolio-manager-deeper-dive/
LOCATION:Webinar
END:VEVENT
BEGIN:VEVENT
DTSTART;TZID=America/Los_Angeles:20260311T080000
DTEND;TZID=America/Los_Angeles:20260311T090000
DTSTAMP:20260423T201022
CREATED:20251216T215931Z
LAST-MODIFIED:20260128T000322Z
UID:20162-1773216000-1773219600@insider.energytrust.org
SUMMARY:Solar + Storage Trade Ally Enrollment Webinar\, March 2026
DESCRIPTION:Participating in this hour-long webinar is one of the requirements for joining the Energy Trust’s Solar Electric Trade Ally Network. Includes Solar + Storage program overview with focus on topics relevant to new and prospective trade allies. Register here \nIn addition to this webinar\, contractors wishing to join the Solar Electric Trade Ally Network must complete these additional requirements: \nSubmit the appropriate paperwork including: \na) Sending the Certificate of Liability Insurance Fax Request Form to your insurance carrier\nb) Complete the Form 1171A – Trade Ally Enrollment Application\nc) Complete the Form 271E – Solar Electric Trade Ally Addendum
URL:https://insider.energytrust.org/event/solar-storage-trade-ally-enrollment-webinar-march-2026/
LOCATION:Webinar
CATEGORIES:Renewable Energy
END:VEVENT
END:VCALENDAR