BEGIN:VCALENDAR
VERSION:2.0
PRODID:-//Energy Trust Insider - ECPv6.15.17.1//NONSGML v1.0//EN
CALSCALE:GREGORIAN
METHOD:PUBLISH
X-WR-CALNAME:Energy Trust Insider
X-ORIGINAL-URL:https://insider.energytrust.org
X-WR-CALDESC:Events for Energy Trust Insider
REFRESH-INTERVAL;VALUE=DURATION:PT1H
X-Robots-Tag:noindex
X-PUBLISHED-TTL:PT1H
BEGIN:VTIMEZONE
TZID:America/Los_Angeles
BEGIN:DAYLIGHT
TZOFFSETFROM:-0800
TZOFFSETTO:-0700
TZNAME:PDT
DTSTART:20180311T100000
END:DAYLIGHT
BEGIN:STANDARD
TZOFFSETFROM:-0700
TZOFFSETTO:-0800
TZNAME:PST
DTSTART:20181104T090000
END:STANDARD
BEGIN:DAYLIGHT
TZOFFSETFROM:-0800
TZOFFSETTO:-0700
TZNAME:PDT
DTSTART:20190310T100000
END:DAYLIGHT
BEGIN:STANDARD
TZOFFSETFROM:-0700
TZOFFSETTO:-0800
TZNAME:PST
DTSTART:20191103T090000
END:STANDARD
BEGIN:DAYLIGHT
TZOFFSETFROM:-0800
TZOFFSETTO:-0700
TZNAME:PDT
DTSTART:20200308T100000
END:DAYLIGHT
BEGIN:STANDARD
TZOFFSETFROM:-0700
TZOFFSETTO:-0800
TZNAME:PST
DTSTART:20201101T090000
END:STANDARD
BEGIN:DAYLIGHT
TZOFFSETFROM:-0800
TZOFFSETTO:-0700
TZNAME:PDT
DTSTART:20210314T100000
END:DAYLIGHT
BEGIN:STANDARD
TZOFFSETFROM:-0700
TZOFFSETTO:-0800
TZNAME:PST
DTSTART:20211107T090000
END:STANDARD
BEGIN:DAYLIGHT
TZOFFSETFROM:-0800
TZOFFSETTO:-0700
TZNAME:PDT
DTSTART:20220313T100000
END:DAYLIGHT
BEGIN:STANDARD
TZOFFSETFROM:-0700
TZOFFSETTO:-0800
TZNAME:PST
DTSTART:20221106T090000
END:STANDARD
BEGIN:DAYLIGHT
TZOFFSETFROM:-0800
TZOFFSETTO:-0700
TZNAME:PDT
DTSTART:20230312T100000
END:DAYLIGHT
BEGIN:STANDARD
TZOFFSETFROM:-0700
TZOFFSETTO:-0800
TZNAME:PST
DTSTART:20231105T090000
END:STANDARD
BEGIN:DAYLIGHT
TZOFFSETFROM:-0800
TZOFFSETTO:-0700
TZNAME:PDT
DTSTART:20240310T100000
END:DAYLIGHT
BEGIN:STANDARD
TZOFFSETFROM:-0700
TZOFFSETTO:-0800
TZNAME:PST
DTSTART:20241103T090000
END:STANDARD
BEGIN:DAYLIGHT
TZOFFSETFROM:-0800
TZOFFSETTO:-0700
TZNAME:PDT
DTSTART:20250309T100000
END:DAYLIGHT
BEGIN:STANDARD
TZOFFSETFROM:-0700
TZOFFSETTO:-0800
TZNAME:PST
DTSTART:20251102T090000
END:STANDARD
BEGIN:DAYLIGHT
TZOFFSETFROM:-0800
TZOFFSETTO:-0700
TZNAME:PDT
DTSTART:20260308T100000
END:DAYLIGHT
BEGIN:STANDARD
TZOFFSETFROM:-0700
TZOFFSETTO:-0800
TZNAME:PST
DTSTART:20261101T090000
END:STANDARD
END:VTIMEZONE
BEGIN:VEVENT
DTSTART;TZID=America/Los_Angeles:20190424T073000
DTEND;TZID=America/Los_Angeles:20190424T163000
DTSTAMP:20260419T114709
CREATED:20190307T203504Z
LAST-MODIFIED:20190307T203504Z
UID:11907-1556091000-1556123400@insider.energytrust.org
SUMMARY:BuildRight 2019
DESCRIPTION:BuildRight brings together industry professionals in high performance building and remodeling to gain valuable insight and utilize new to market technologies and business development innovations. This two day conference allows attendees to interact with products and services and includes accredited CEU classes. \nCost: \nApril 24th & April 25th – Members = $324\, Non-Members = $375 \nApril 24th Only – Members = $199\, Non-Members = $249 \nApril 25th Only – Members = $249\, Non-Members = $299 \nContact Bria Smith\, BriaS@hbapdx.org\, 503.684.1880 for additional details.
URL:https://insider.energytrust.org/event/buildright-2019/2019-04-24/
LOCATION:McMenamins Kennedy School\, 5736 N.E. 33rd Avenue\, Portland\, OR\, 97211\, United States
CATEGORIES:Design + New Construction,Professional Certification
ORGANIZER;CN="Home Builders Association of Metropolitan Portland":MAILTO:BriaS@hbapdx.org
GEO:45.5644813;-122.6299282
X-APPLE-STRUCTURED-LOCATION;VALUE=URI;X-ADDRESS=McMenamins Kennedy School 5736 N.E. 33rd Avenue Portland OR 97211 United States;X-APPLE-RADIUS=500;X-TITLE=5736 N.E. 33rd Avenue:geo:-122.6299282,45.5644813
END:VEVENT
BEGIN:VEVENT
DTSTART;VALUE=DATE:20190430
DTEND;VALUE=DATE:20190502
DTSTAMP:20260419T114709
CREATED:20190326T163659Z
LAST-MODIFIED:20190326T163659Z
UID:11991-1556582400-1556755199@insider.energytrust.org
SUMMARY:Earth Advantage Broker
DESCRIPTION:The Earth Advantage Broker accreditation course provides real estate professionals with a competitive edge in communicating features and benefits for green and energy efficient home opportunities in their market. \nAre you prepared to meet increasing homebuyer demand for healthy\, comfortable\, efficient homes?\nA nationwide study in 2016* found that 81% of people who expect to buy a new home in the next two years say higher energy efficiency would cause them to choose one home over another AND that they would be willing to pay more for a healthier home. Policies and programs are also growing the green home market\, such as the City of Portland Home Energy Score Program and the more than 1 in 3 new homes built in Oregon that have earned an EPS® from Energy Trust of Oregon demonstrating they perform an average of 22% better than code-built homes. \nThe big picture shows a dramatic rise in the popularity of green and energy efficient homes that provide a healthier living environment and greater energy\, water\, and resource efficiency. Stay on top of your game by becoming an Earth Advantage Broker so you can continue to exceed homebuyer expectations with savvy information and recommendations. \nA ‘Newly Remodeled’ Training\nEarth Advantage Broker was updated in 2018 and now provides the most relevant and must-know green home information designed to help real estate professionals. \nNew resources. New activities. New modular approach: \n\nThe Anatomy of a Green Home \nMaking Savvy Energy & Solar Upgrades \nMillennials & Smart Homes Are Changing Real Estate\nHow Homebuyers Ask for Green (Without Saying the Word)\n​Top 10 Green Broker Resources\n\nWHEN & WHERE\nTuesday\, April 30 – Wednesday\, May 1\, 2019\n1.5 Days Classroom + 2 Green Home Site Visits \n\nApril 30 – Classroom (9:00 AM – 5:00 PM) | 7 CEs\nMay 1 – Site Visits (9:00 AM – 12:00 PM) | 3 CEs (location TBD)\nMay 1 – Classroom (1:00 PM – 5:00 PM) | 4 CEs\n\n\nLearn how to upgrade or sell a green home and market yourself as a green professional.\nHomebuyers and sellers rely on their real estate agents to provide influential guidance\, and yet a 2017 report by the National Association of Realtors** shows that only 39% of realtors are comfortable answering clients’ questions about energy efficiency. Homebuyers with ready access to the internet will expect you to know more and be a trusted advisor in their purchasing decisions. Being a ‘green professional’ means you are ahead of the curve and understand how houses are changing. In order to best serve your clients\, you will be expected to have earned a green designation proving that you have knowledge of the green home market\, can discuss green features and benefits\, and recommend the best ways to upgrade. \nEarn the Earth Advantage Broker Accreditation\nTake the course & pass the accreditation exam in order to become an EA Broker. Earth Advantage provides marketing support in the form of logos and a professional listing on the accredited professionals registry to help you display and promote your green credential to future clients.
URL:https://insider.energytrust.org/event/earth-advantage-broker-3/
LOCATION:Earth Advantage\, 623 SW Oak St\, Suite 300\, Portland\, OR\, 97205\, United States
CATEGORIES:Professional Certification
ATTACH;FMTTYPE=image/jpeg:https://insider.energytrust.org/wp-content/uploads/page-header-fx1_EAB1521141386-6989-1.jpg
ORGANIZER;CN="Earth Advantage":MAILTO:hkendall@earthadvantage.org
GEO:45.522053;-122.6777018
X-APPLE-STRUCTURED-LOCATION;VALUE=URI;X-ADDRESS=Earth Advantage 623 SW Oak St Suite 300 Portland OR 97205 United States;X-APPLE-RADIUS=500;X-TITLE=623 SW Oak St\, Suite 300:geo:-122.6777018,45.522053
END:VEVENT
BEGIN:VEVENT
DTSTART;TZID=America/Los_Angeles:20190809T083000
DTEND;TZID=America/Los_Angeles:20190809T123000
DTSTAMP:20260419T114709
CREATED:20190717T173956Z
LAST-MODIFIED:20190807T180955Z
UID:12322-1565339400-1565353800@insider.energytrust.org
SUMMARY:All About ADUs
DESCRIPTION:This half-day course is intended for professionals looking to increase their knowledge about Accessory Dwelling Unit (ADU) development in order to respond to increasing client demand for properties with ADU potential.\nIncreasing rates of prospective home buyers are interested in building an ADU on their property\, and real estate professionals can be on the cutting edge of this emerging development trend to help homeowners/developers understand site eligibility\, development process and costs\, and the return on investment of ADUs. This course is intended to help real estate professionals understand the basic planning and building regulations for ADU development in Portland and provide some insight on ADU regulations in the broader Portland Metro area. \nPromote your new ADU expertise and become an ADU Specialist!\n(This is an optional designation and it is not required in order to attend the All About ADUs course).   \n\n\nSteps to becoming an ADU Specialist: \n\nYou must be an Earth Advantage Accredited Professional\n\nEarth Advantage Broker (EA Broker) \nAccredited Green Appraiser (AGA)\nSustainable Homes Professional (SHP)\n\n\nTake the All About ADUs course\nPass the online ADU Exam to earn the ADU Specialist credential.\n\nIf you are: \n\nAlready an Earth Advantage Accredited Professional (EA Broker\, AGA or SHP)? \n\nAttend the All About ADUs course\nTake the online ADU Exam.\n\n\nNot already an Earth Advantage Accredited Professional? (in no particular order)\n\nEarn your Earth Advantage Accredited Professional designation\n\nEA Broker (live or online)\nAGA (online)\nSHP (live)\n\n\nAttend the All About ADUs course\n\n\nTake the ADU Exam for free!
URL:https://insider.energytrust.org/event/all-about-adus-18/
LOCATION:Earth Advantage\, 623 SW Oak St\, Suite 300\, Portland\, OR\, 97205\, United States
CATEGORIES:Design + New Construction,General,Professional Certification
ATTACH;FMTTYPE=image/jpeg:https://insider.energytrust.org/wp-content/uploads/page-header-fx1_ADU21516300996-50446-1.jpg
ORGANIZER;CN="Earth Advantage":MAILTO:education@earthadvantage.org
GEO:45.522053;-122.6777018
X-APPLE-STRUCTURED-LOCATION;VALUE=URI;X-ADDRESS=Earth Advantage 623 SW Oak St Suite 300 Portland OR 97205 United States;X-APPLE-RADIUS=500;X-TITLE=623 SW Oak St\, Suite 300:geo:-122.6777018,45.522053
END:VEVENT
BEGIN:VEVENT
DTSTART;TZID=America/Los_Angeles:20191204T083000
DTEND;TZID=America/Los_Angeles:20191204T123000
DTSTAMP:20260419T114709
CREATED:20191113T234801Z
LAST-MODIFIED:20191114T001652Z
UID:12687-1575448200-1575462600@insider.energytrust.org
SUMMARY:All About ADUs
DESCRIPTION:Gain Accessory Dwelling Unit (ADU) expertise and become an ‘ADU Specialist’!\n\n\n\n\nThis half-day course is intended for professionals looking to increase their knowledge about Accessory Dwelling Unit (ADU) development in order to respond to increasing client demand for properties with ADU potential.\nIncreasing rates of prospective home buyers are interested in building an ADU on their property\, and real estate professionals can be on the cutting edge of this emerging development trend to help homeowners/developers understand site eligibility\, development process and costs\, and the return on investment of ADUs. This course is intended to help real estate professionals understand the basic planning and building regulations for ADU development in Portland and provide some insight on ADU regulations in the broader Portland Metro area. \nPromote your new ADU expertise and become an ADU Specialist!\n(This is an optional designation and it is not required in order to attend the All About ADUs course).   \n\n\nSteps to becoming an ADU Specialist: \n\nYou must be an Earth Advantage Accredited Professional\n\nEarth Advantage Broker (EA Broker) \nAccredited Green Appraiser (AGA)\nSustainable Homes Professional (SHP)\n\n\nTake the All About ADUs course\nPass the online ADU Exam to earn the ADU Specialist credential.\n\nIf you are: \n\nAlready an Earth Advantage Accredited Professional (EA Broker\, AGA or SHP)? \n\nAttend the All About ADUs course\nTake the online ADU Exam.\n\n\nNot already an Earth Advantage Accredited Professional? (in no particular order)\n\nEarn your Earth Advantage Accredited Professional designation\n\nEA Broker (live or online)\nAGA (online)\nSHP (live)\n\n\nAttend the All About ADUs course\n\n\nTake the ADU Exam for free!
URL:https://insider.energytrust.org/event/all-about-adus-21/
LOCATION:Earth Advantage\, 623 SW Oak St\, Suite 300\, Portland\, OR\, 97205\, United States
CATEGORIES:Design + New Construction,Professional Certification
ATTACH;FMTTYPE=image/jpeg:https://insider.energytrust.org/wp-content/uploads/Big-ADU-banner-13.jpg
ORGANIZER;CN="Earth Advantage":MAILTO:hkendall@earthadvantage.org
GEO:45.522053;-122.6777018
X-APPLE-STRUCTURED-LOCATION;VALUE=URI;X-ADDRESS=Earth Advantage 623 SW Oak St Suite 300 Portland OR 97205 United States;X-APPLE-RADIUS=500;X-TITLE=623 SW Oak St\, Suite 300:geo:-122.6777018,45.522053
END:VEVENT
BEGIN:VEVENT
DTSTART;TZID=America/Los_Angeles:20210903T080000
DTEND;TZID=America/Los_Angeles:20210903T170000
DTSTAMP:20260419T114709
CREATED:20210903T203010Z
LAST-MODIFIED:20210903T203010Z
UID:14729-1630656000-1630688400@insider.energytrust.org
SUMMARY:High Performance Home Site Visits
DESCRIPTION:Experience in-field site tours virtually with this pre-recorded video series featuring building industry leaders showcasing their high performance homes.  \nJoin Earth Advantage for up to three 1.5-hour guided\, under-construction tours of three green and/or energy efficient homes that have achieved a variety of third party certifications and performance levels.
URL:https://insider.energytrust.org/event/high-performance-home-site-visits/
LOCATION:Webinar
CATEGORIES:Energy Code,General,Green/Sustainability,Professional Certification,Renewable Energy
ATTACH;FMTTYPE=image/jpeg:https://insider.energytrust.org/wp-content/uploads/Noyes-01.jpeg
ORGANIZER;CN="Earth Advantage":MAILTO:hkendall@earthadvantage.org
END:VEVENT
BEGIN:VEVENT
DTSTART;TZID=America/Los_Angeles:20210903T080000
DTEND;TZID=America/Los_Angeles:20210903T170000
DTSTAMP:20260419T114709
CREATED:20210903T202850Z
LAST-MODIFIED:20210903T202850Z
UID:14727-1630656000-1630688400@insider.energytrust.org
SUMMARY:On The Level-On Demand
DESCRIPTION:This ‘On The Level’ series has been designed to provide field-tested recommendations from building professionals and will provide tangible design principles and construction practices that can be integrated into your building process. Learn best practices on air barriers\, indoor air quality\, balanced ventilation & ERVs/HRVs.The sessions also cover the new OR & WA code pathways so you can consider the benefits of these approaches and make well-informed decisions.
URL:https://insider.energytrust.org/event/on-the-level-on-demand/
LOCATION:Webinar
CATEGORIES:General,Green/Sustainability,Professional Certification
ATTACH;FMTTYPE=image/jpeg:https://insider.energytrust.org/wp-content/uploads/On-The-Level.jpg
ORGANIZER;CN="Earth Advantage":MAILTO:hkendall@earthadvantage.org
END:VEVENT
BEGIN:VEVENT
DTSTART;TZID=America/Los_Angeles:20211028T100000
DTEND;TZID=America/Los_Angeles:20211028T110000
DTSTAMP:20260419T114709
CREATED:20211022T213929Z
LAST-MODIFIED:20211022T213929Z
UID:14883-1635415200-1635418800@insider.energytrust.org
SUMMARY:Sizing Air Conditioning in the New Northwest - CEU credit
DESCRIPTION:The summer of 2021 saw record high temperatures across the Northwest. Areas that typically saw mild summer temperature experienced day time highs exceeding those of Las Vegas.\nPortland’s summer design temperature is 86F. It’s clear that using 86F as a design temp would result in unsatisfied customers and maybe a few lawsuits. What design temperatures should be used\, and will the capacity of the air conditioner be at the selected design temperature? More importantly will your customer be kept comfortable on the hot days of summer. \nThis course will focus on: \n\nUnderstanding air conditioning capacity curves\nWhat summer design temperature to use\nSelecting reasonable inputs for windows\, air exchange rates\, and duct multipliers\nWhy in the Northwest it is the Heat and not the humidity\n\nPlease register through this Eventbrite page.
URL:https://insider.energytrust.org/event/sizing-air-conditioning-in-the-new-northwest-ceu-credit/
LOCATION:Webinar
CATEGORIES:Professional Certification
END:VEVENT
BEGIN:VEVENT
DTSTART;TZID=America/Los_Angeles:20220217T090000
DTEND;TZID=America/Los_Angeles:20220217T110000
DTSTAMP:20260419T114709
CREATED:20220121T185100Z
LAST-MODIFIED:20220121T185100Z
UID:15177-1645088400-1645095600@insider.energytrust.org
SUMMARY:Home Retrofit Specifications Manual Orientation – Part 2
DESCRIPTION:This technical training provides a detailed overview of the Home Retrofit Specifications Manual. The manual is revised and published once a year and articulates Energy Trust of Oregon’s requirements for measure installations in detached single-family houses. This webinar will explain how projects are reviewed by the program through Quality Assurance visits\, how to avoid common causes of corrective actions\, and other tips for ensuring a comprehensive understanding of the specifications. \nThis webinar is 2 hours long. Attendance is a prerequisite to enrolling in the trade ally network but all contractors performing work for Energy Trust customers are welcome and encouraged to participate. \nCost: Free
URL:https://insider.energytrust.org/event/home-retrofit-specifications-manual-orientation-part-2-48/
LOCATION:Webinar
CATEGORIES:Professional Certification
END:VEVENT
BEGIN:VEVENT
DTSTART;TZID=America/Los_Angeles:20220316T090000
DTEND;TZID=America/Los_Angeles:20220316T100000
DTSTAMP:20260419T114709
CREATED:20220121T184854Z
LAST-MODIFIED:20220204T215353Z
UID:15178-1647421200-1647424800@insider.energytrust.org
SUMMARY:Home Retrofit Trade Ally Orientation – Part 1
DESCRIPTION:Participating in this webinar is one of the requirements for joining the Home Retrofit Trade Ally Network. In addition to this webinar\, contractors wishing to join the Home Retrofit Trade Ally Network must complete these additional requirements: \n1) Submit the appropriate paperwork including \na) Sending the Certificate of Liability Insurance Fax Request Form to your insurance carrier \nb) Complete the Form 1171A – Trade Ally Enrollment Application \nc) Complete the Form 371A – Home Retrofit Trade Ally Addendum \n2) Participate in the Home Retrofit Specifications Manual Webinar. This webinar takes place the day after this Home Retrofit Trade Ally Orientation\, at 9 a.m. and you must register separately. \nCost: free
URL:https://insider.energytrust.org/event/home-retrofit-trade-ally-orientation-part-1-48/
LOCATION:Webinar
CATEGORIES:Professional Certification
END:VEVENT
BEGIN:VEVENT
DTSTART;TZID=America/Los_Angeles:20220317T090000
DTEND;TZID=America/Los_Angeles:20220317T110000
DTSTAMP:20260419T114709
CREATED:20220121T185138Z
LAST-MODIFIED:20220204T215613Z
UID:15179-1647507600-1647514800@insider.energytrust.org
SUMMARY:Home Retrofit Specifications Manual Orientation – Part 2
DESCRIPTION:This technical training provides a detailed overview of the Home Retrofit Specifications Manual. The manual is revised and published once a year and articulates Energy Trust of Oregon’s requirements for measure installations in detached single-family houses. This webinar will explain how projects are reviewed by the program through Quality Assurance visits\, how to avoid common causes of corrective actions\, and other tips for ensuring a comprehensive understanding of the specifications. \nThis webinar is 2 hours long. Attendance is a prerequisite to enrolling in the trade ally network but all contractors performing work for Energy Trust customers are welcome and encouraged to participate. \nCost: Free
URL:https://insider.energytrust.org/event/home-retrofit-specifications-manual-orientation-part-2-49/
LOCATION:Webinar
CATEGORIES:Professional Certification
END:VEVENT
BEGIN:VEVENT
DTSTART;TZID=America/Los_Angeles:20220420T090000
DTEND;TZID=America/Los_Angeles:20220420T100000
DTSTAMP:20260419T114709
CREATED:20220121T184922Z
LAST-MODIFIED:20220204T215411Z
UID:15180-1650445200-1650448800@insider.energytrust.org
SUMMARY:Home Retrofit Trade Ally Orientation – Part 1
DESCRIPTION:Participating in this webinar is one of the requirements for joining the Home Retrofit Trade Ally Network. In addition to this webinar\, contractors wishing to join the Home Retrofit Trade Ally Network must complete these additional requirements: \n1) Submit the appropriate paperwork including \na) Sending the Certificate of Liability Insurance Fax Request Form to your insurance carrier \nb) Complete the Form 1171A – Trade Ally Enrollment Application \nc) Complete the Form 371A – Home Retrofit Trade Ally Addendum \n2) Participate in the Home Retrofit Specifications Manual Webinar. This webinar takes place the day after this Home Retrofit Trade Ally Orientation\, at 9 a.m. and you must register separately. \nCost: free
URL:https://insider.energytrust.org/event/home-retrofit-trade-ally-orientation-part-1-49/
LOCATION:Webinar
CATEGORIES:Professional Certification
END:VEVENT
BEGIN:VEVENT
DTSTART;TZID=America/Los_Angeles:20220421T090000
DTEND;TZID=America/Los_Angeles:20220421T110000
DTSTAMP:20260419T114709
CREATED:20220121T185203Z
LAST-MODIFIED:20220204T215226Z
UID:15181-1650531600-1650538800@insider.energytrust.org
SUMMARY:Home Retrofit Specifications Manual Orientation – Part 2
DESCRIPTION:This technical training provides a detailed overview of the Home Retrofit Specifications Manual. The manual is revised and published once a year and articulates Energy Trust of Oregon’s requirements for measure installations in detached single-family houses. This webinar will explain how projects are reviewed by the program through Quality Assurance visits\, how to avoid common causes of corrective actions\, and other tips for ensuring a comprehensive understanding of the specifications. \nThis webinar is 2 hours long. Attendance is a prerequisite to enrolling in the trade ally network but all contractors performing work for Energy Trust customers are welcome and encouraged to participate. \nCost: Free
URL:https://insider.energytrust.org/event/home-retrofit-specifications-manual-orientation-part-2-50/
LOCATION:Webinar
CATEGORIES:Professional Certification
END:VEVENT
BEGIN:VEVENT
DTSTART;TZID=America/Los_Angeles:20220518T090000
DTEND;TZID=America/Los_Angeles:20220518T100000
DTSTAMP:20260419T114709
CREATED:20220121T184810Z
LAST-MODIFIED:20220204T215133Z
UID:15182-1652864400-1652868000@insider.energytrust.org
SUMMARY:Home Retrofit Trade Ally Orientation – Part 1
DESCRIPTION:Participating in this webinar is one of the requirements for joining the Home Retrofit Trade Ally Network. In addition to this webinar\, contractors wishing to join the Home Retrofit Trade Ally Network must complete these additional requirements: \n1) Submit the appropriate paperwork including \na) Sending the Certificate of Liability Insurance Fax Request Form to your insurance carrier \nb) Complete the Form 1171A – Trade Ally Enrollment Application \nc) Complete the Form 371A – Home Retrofit Trade Ally Addendum \n2) Participate in the Home Retrofit Specifications Manual Webinar. This webinar takes place the day after this Home Retrofit Trade Ally Orientation\, at 9 a.m. and you must register separately. \nCost: free
URL:https://insider.energytrust.org/event/home-retrofit-trade-ally-orientation-part-1-47/
LOCATION:Webinar
CATEGORIES:Professional Certification
END:VEVENT
BEGIN:VEVENT
DTSTART;TZID=America/Los_Angeles:20220519T090000
DTEND;TZID=America/Los_Angeles:20220519T110000
DTSTAMP:20260419T114709
CREATED:20220121T185024Z
LAST-MODIFIED:20220204T215058Z
UID:15183-1652950800-1652958000@insider.energytrust.org
SUMMARY:Home Retrofit Specifications Manual Orientation – Part 2
DESCRIPTION:This technical training provides a detailed overview of the Home Retrofit Specifications Manual. The manual is revised and published once a year and articulates Energy Trust of Oregon’s requirements for measure installations in detached single-family houses. This webinar will explain how projects are reviewed by the program through Quality Assurance visits\, how to avoid common causes of corrective actions\, and other tips for ensuring a comprehensive understanding of the specifications. \nThis webinar is 2 hours long. Attendance is a prerequisite to enrolling in the trade ally network but all contractors performing work for Energy Trust customers are welcome and encouraged to participate. \nCost: Free
URL:https://insider.energytrust.org/event/home-retrofit-specifications-manual-orientation-part-2-47/
LOCATION:Webinar
CATEGORIES:Professional Certification
END:VEVENT
BEGIN:VEVENT
DTSTART;TZID=America/Los_Angeles:20230719T090000
DTEND;TZID=America/Los_Angeles:20230719T100000
DTSTAMP:20260419T114709
CREATED:20230706T190014Z
LAST-MODIFIED:20230706T190014Z
UID:16497-1689757200-1689760800@insider.energytrust.org
SUMMARY:Home Retrofit Trade Ally Orientation – Part 1
DESCRIPTION:Participating in this webinar is one of the requirements for joining the Home Retrofit Trade Ally Network. In addition to this webinar\, contractors wishing to join the Home Retrofit Trade Ally Network must complete these additional requirements: \n1) Submit the appropriate paperwork including \na) Sending the Certificate of Liability Insurance Fax Request Form to your insurance carrier \nb) Complete the Form 1171A – Trade Ally Enrollment Application \nc) Complete the Form 371A – Home Retrofit Trade Ally Addendum \n2) Participate in the Home Retrofit Specifications Manual Webinar. This webinar takes place the day after this Home Retrofit Trade Ally Orientation\, at 9 a.m. and you must register separately. \nCost: free
URL:https://insider.energytrust.org/event/home-retrofit-trade-ally-orientation-part-1-64/
LOCATION:Webinar
CATEGORIES:Professional Certification
ORGANIZER;CN="Home Retrofit":MAILTO:residentialta@energytrust.org
END:VEVENT
BEGIN:VEVENT
DTSTART;TZID=America/Los_Angeles:20251027T080000
DTEND;TZID=America/Los_Angeles:20251027T120000
DTSTAMP:20260419T114709
CREATED:20250919T201804Z
LAST-MODIFIED:20250919T201804Z
UID:19752-1761552000-1761566400@insider.energytrust.org
SUMMARY:Energy Trust Building Science Principles (Part I)
DESCRIPTION:Part 1 of 2 (Part 2 is 10/28/25 with separate registration) \nJoin Energy Trust for this virtual training\, designed for contractors or community-based organizations that are interested in learning how various components of a home interact to affect the home’s overall performance. At no cost to them\, Energy Trust trade allies and community partners that complete this training are eligible to take the BPI Building Science Principles Exam (normally $109) and earn their Building Science Principles (BSP) Certificate of Knowledge.
URL:https://insider.energytrust.org/event/energy-trust-building-science-principles-part-i/
LOCATION:Zoom
CATEGORIES:General,Professional Certification
END:VEVENT
END:VCALENDAR