BEGIN:VCALENDAR
VERSION:2.0
PRODID:-//Energy Trust Insider - ECPv6.15.17.1//NONSGML v1.0//EN
CALSCALE:GREGORIAN
METHOD:PUBLISH
X-WR-CALNAME:Energy Trust Insider
X-ORIGINAL-URL:https://insider.energytrust.org
X-WR-CALDESC:Events for Energy Trust Insider
REFRESH-INTERVAL;VALUE=DURATION:PT1H
X-Robots-Tag:noindex
X-PUBLISHED-TTL:PT1H
BEGIN:VTIMEZONE
TZID:America/Los_Angeles
BEGIN:DAYLIGHT
TZOFFSETFROM:-0800
TZOFFSETTO:-0700
TZNAME:PDT
DTSTART:20200308T100000
END:DAYLIGHT
BEGIN:STANDARD
TZOFFSETFROM:-0700
TZOFFSETTO:-0800
TZNAME:PST
DTSTART:20201101T090000
END:STANDARD
BEGIN:DAYLIGHT
TZOFFSETFROM:-0800
TZOFFSETTO:-0700
TZNAME:PDT
DTSTART:20210314T100000
END:DAYLIGHT
BEGIN:STANDARD
TZOFFSETFROM:-0700
TZOFFSETTO:-0800
TZNAME:PST
DTSTART:20211107T090000
END:STANDARD
BEGIN:DAYLIGHT
TZOFFSETFROM:-0800
TZOFFSETTO:-0700
TZNAME:PDT
DTSTART:20220313T100000
END:DAYLIGHT
BEGIN:STANDARD
TZOFFSETFROM:-0700
TZOFFSETTO:-0800
TZNAME:PST
DTSTART:20221106T090000
END:STANDARD
END:VTIMEZONE
BEGIN:VEVENT
DTSTART;TZID=America/Los_Angeles:20210903T080000
DTEND;TZID=America/Los_Angeles:20210903T170000
DTSTAMP:20260423T124641
CREATED:20210903T202850Z
LAST-MODIFIED:20210903T202850Z
UID:14727-1630656000-1630688400@insider.energytrust.org
SUMMARY:On The Level-On Demand
DESCRIPTION:This ‘On The Level’ series has been designed to provide field-tested recommendations from building professionals and will provide tangible design principles and construction practices that can be integrated into your building process. Learn best practices on air barriers\, indoor air quality\, balanced ventilation & ERVs/HRVs.The sessions also cover the new OR & WA code pathways so you can consider the benefits of these approaches and make well-informed decisions.
URL:https://insider.energytrust.org/event/on-the-level-on-demand/
LOCATION:Webinar
CATEGORIES:General,Green/Sustainability,Professional Certification
ATTACH;FMTTYPE=image/jpeg:https://insider.energytrust.org/wp-content/uploads/On-The-Level.jpg
ORGANIZER;CN="Earth Advantage":MAILTO:hkendall@earthadvantage.org
END:VEVENT
BEGIN:VEVENT
DTSTART;TZID=America/Los_Angeles:20210903T080000
DTEND;TZID=America/Los_Angeles:20210903T170000
DTSTAMP:20260423T124641
CREATED:20210903T203010Z
LAST-MODIFIED:20210903T203010Z
UID:14729-1630656000-1630688400@insider.energytrust.org
SUMMARY:High Performance Home Site Visits
DESCRIPTION:Experience in-field site tours virtually with this pre-recorded video series featuring building industry leaders showcasing their high performance homes.  \nJoin Earth Advantage for up to three 1.5-hour guided\, under-construction tours of three green and/or energy efficient homes that have achieved a variety of third party certifications and performance levels.
URL:https://insider.energytrust.org/event/high-performance-home-site-visits/
LOCATION:Webinar
CATEGORIES:Energy Code,General,Green/Sustainability,Professional Certification,Renewable Energy
ATTACH;FMTTYPE=image/jpeg:https://insider.energytrust.org/wp-content/uploads/Noyes-01.jpeg
ORGANIZER;CN="Earth Advantage":MAILTO:hkendall@earthadvantage.org
END:VEVENT
END:VCALENDAR