BEGIN:VCALENDAR
VERSION:2.0
PRODID:-//Energy Trust Insider - ECPv6.15.17.1//NONSGML v1.0//EN
CALSCALE:GREGORIAN
METHOD:PUBLISH
X-WR-CALNAME:Energy Trust Insider
X-ORIGINAL-URL:https://insider.energytrust.org
X-WR-CALDESC:Events for Energy Trust Insider
REFRESH-INTERVAL;VALUE=DURATION:PT1H
X-Robots-Tag:noindex
X-PUBLISHED-TTL:PT1H
BEGIN:VTIMEZONE
TZID:America/Los_Angeles
BEGIN:DAYLIGHT
TZOFFSETFROM:-0800
TZOFFSETTO:-0700
TZNAME:PDT
DTSTART:20170312T100000
END:DAYLIGHT
BEGIN:STANDARD
TZOFFSETFROM:-0700
TZOFFSETTO:-0800
TZNAME:PST
DTSTART:20171105T090000
END:STANDARD
BEGIN:DAYLIGHT
TZOFFSETFROM:-0800
TZOFFSETTO:-0700
TZNAME:PDT
DTSTART:20180311T100000
END:DAYLIGHT
BEGIN:STANDARD
TZOFFSETFROM:-0700
TZOFFSETTO:-0800
TZNAME:PST
DTSTART:20181104T090000
END:STANDARD
BEGIN:DAYLIGHT
TZOFFSETFROM:-0800
TZOFFSETTO:-0700
TZNAME:PDT
DTSTART:20190310T100000
END:DAYLIGHT
BEGIN:STANDARD
TZOFFSETFROM:-0700
TZOFFSETTO:-0800
TZNAME:PST
DTSTART:20191103T090000
END:STANDARD
END:VTIMEZONE
BEGIN:VEVENT
DTSTART;TZID=America/Los_Angeles:20181010T090000
DTEND;TZID=America/Los_Angeles:20181010T100000
DTSTAMP:20260425T191443
CREATED:20180628T221329Z
LAST-MODIFIED:20180925T211829Z
UID:11078-1539162000-1539165600@insider.energytrust.org
SUMMARY:Energy Trust of Oregon - Real Estate Ally Orientation
DESCRIPTION:When you become a real estate ally with Energy Trust\, you can help provide energy-efficient solutions to homebuyers and sellers while strengthening your own business. \nBenefits of participation: \n\nAccess free materials and content to help you market energy-efficient products and upgrades to your customers.\nStand out as a designated energy-efficiency champion.\nGain customer leads through Energy Trust’s real estate ally directory.\nLeverage EPS™\, an energy performance scoring tool\, to sell top-quality newly constructed homes.\n\nLearning Objectives \n\nEnergy Trust’s history and the benefits of being a Real Estate Ally\nEnergy Trust resources for you and your customers\nTips on marketing energy efficiency to your customers\nWays to recognize and promote EPS in the marketplace
URL:https://insider.energytrust.org/event/energy-trust-of-oregon-real-estate-ally-orientation/
LOCATION:Webinar
CATEGORIES:General,Green/Sustainability
ATTACH;FMTTYPE=image/jpeg:https://insider.energytrust.org/wp-content/uploads/page-header-fx1_REAllyTraining1516746666-2303-1.jpg
ORGANIZER;CN="Energy Trust":MAILTO: info@energytrust.org
END:VEVENT
END:VCALENDAR